BEGIN:VCALENDAR
VERSION:2.0
PRODID:-//DW Poppy Music - ECPv4.0.5//NONSGML v1.0//EN
CALSCALE:GREGORIAN
METHOD:PUBLISH
X-WR-CALNAME:DW Poppy Music
X-ORIGINAL-URL:http://dwpoppymusic.com
X-WR-CALDESC:Events for DW Poppy Music
BEGIN:VEVENT
DTSTART;VALUE=DATE:20200610
DTEND;VALUE=DATE:20200610
DTSTAMP:20260424T043641
CREATED:20190904
LAST-MODIFIED:20190904
UID:2148-1591747200-1591833599@dwpoppymusic.com
SUMMARY:Night of Bands & Awards
DESCRIPTION:Concert Band 8\, 9\, 10\, Senior Wind Ensemble\, Junior Jazz Ensemble & Senior Jazz Ensemble\n\n6:30 Call for musicians\n\n7:00 start time\n\nAdmissions by donation at the door
URL:http://dwpoppymusic.com/event/night-of-bands-awards/
END:VEVENT
END:VCALENDAR