BEGIN:VCALENDAR
VERSION:2.0
PRODID:-//DW Poppy Music - ECPv4.0.5//NONSGML v1.0//EN
CALSCALE:GREGORIAN
METHOD:PUBLISH
X-WR-CALNAME:DW Poppy Music
X-ORIGINAL-URL:http://dwpoppymusic.com
X-WR-CALDESC:Events for DW Poppy Music
BEGIN:VEVENT
DTSTART;TZID="America/Vancouver":20230403T113000
DTEND;TZID="America/Vancouver":20230403T174500
DTSTAMP:20260424T043713
CREATED:20230312T064458
LAST-MODIFIED:20230312T064458
UID:2731-1680521400-1680543900@dwpoppymusic.com
SUMMARY:Kiwanis CB Festival - CB10 & SWE
DESCRIPTION:
URL:http://dwpoppymusic.com/event/kiwanis-cb-festival-cb10-swe/
LOCATION:New Westminster
END:VEVENT
END:VCALENDAR